BEGIN:VCALENDAR
VERSION:2.0
PRODID:Old Scotch Collegians Football Club
CALSCALE:GREGORIAN
BEGIN:VEVENT
DTSTAMP:20260424T133837Z
UID:14b6c64d-fe88-47b8-9ac0-22adddd82464
DTSTART:20260321T063000Z
DTEND:20260321T090000Z
DESCRIPTION:
LOCATION:15 Range Rd\, Western Junction TAS 7212\, Australia
SUMMARY:Season Launch 2026
URL;VALUE=URI:https://oscfc.com.au/public/schedule/events/83126-season-laun
 ch-2026
END:VEVENT
BEGIN:VEVENT
DTSTAMP:20260424T133837Z
UID:8e48806a-744f-4006-9b37-25a3f8c42553
DTSTART:20260502T020000Z
DTEND:20260502T135900Z
DESCRIPTION:Our annual Ladies Day is back and we are ready to celebrate all
  the women of Old Scotch!\n\nPlayers\, partners\, parents\, friends and fa
 mily - you're all invited!\n\nSaturday 2nd May from 12pm on the hill under
  the marquee at the NTCA Ground.\n
LOCATION:53-55 Racecourse Cres\, Launceston TAS 7250\, Australia
SUMMARY:Ladies Day 2026
URL;VALUE=URI:https://oscfc.com.au/public/schedule/events/83278-ladies-day-
 2026
END:VEVENT
END:VCALENDAR
